BEGIN:VCALENDAR
VERSION:2.0
PRODID:-//hacksw/handcal//NONSGML v1.0//EN
CALSCALE:GREGORIAN
BEGIN:VTIMEZONE
TZID:America/New_York
BEGIN:DAYLIGHT
TZOFFSETFROM:-0600
TZNAME:MDT
TZOFFSETTO:-0600
END:DAYLIGHT
END:VTIMEZONE
DTSTAMP:20260423T122209Z
UID:69ea4731b4087
BEGIN:VEVENT
DESCRIPTION:<p>Board of Trustees meeting.</p>

DTSTART;TZID=America/New_York:20300117T090000
DTEND;TZID=America/New_York:20300117T100000
SUMMARY:Board Meetings
URL;VALUE=URI:/events/series/3
END:VEVENT
END:VCALENDAR