BEGIN:VCALENDAR
VERSION:2.0
PRODID:-//hacksw/handcal//NONSGML v1.0//EN
CALSCALE:GREGORIAN
BEGIN:VTIMEZONE
TZID:America/New_York
BEGIN:DAYLIGHT
TZOFFSETFROM:-0600
TZNAME:MDT
TZOFFSETTO:-0600
END:DAYLIGHT
END:VTIMEZONE
DTSTAMP:20260423T165241Z
UID:69ea8699d461f
BEGIN:VEVENT
DESCRIPTION:<p>Meets in the Meeting Room at the library.&nbsp;</p>

DTSTART;TZID=America/New_York:20260811T160000
DTEND;TZID=America/New_York:20260811T170000
SUMMARY:Meeting: Sustainable Margate
URL;VALUE=URI:/sustainable-margate-21
END:VEVENT
END:VCALENDAR