BEGIN:VCALENDAR
VERSION:2.0
PRODID:-//hacksw/handcal//NONSGML v1.0//EN
CALSCALE:GREGORIAN
BEGIN:VTIMEZONE
TZID:America/New_York
BEGIN:DAYLIGHT
TZOFFSETFROM:-0600
TZNAME:MDT
TZOFFSETTO:-0600
END:DAYLIGHT
END:VTIMEZONE
DTSTAMP:20260423T120444Z
UID:69ea431c08b87
BEGIN:VEVENT
DESCRIPTION:<p></p>

DTSTART;TZID=America/New_York:20260923T170000
DTEND;TZID=America/New_York:20260923T080000
SUMMARY:Meeting:Margate Democratic Club
URL;VALUE=URI:/margate-democratic-club-22
END:VEVENT
END:VCALENDAR