BEGIN:VCALENDAR
VERSION:2.0
PRODID:-//hacksw/handcal//NONSGML v1.0//EN
CALSCALE:GREGORIAN
BEGIN:VTIMEZONE
TZID:America/New_York
BEGIN:DAYLIGHT
TZOFFSETFROM:-0600
TZNAME:MDT
TZOFFSETTO:-0600
END:DAYLIGHT
END:VTIMEZONE
DTSTAMP:20260421T045937Z
UID:69e73c79d9dff
BEGIN:VEVENT
DESCRIPTION:<p>78-year-old Carl Fredrickson travels to South America in his house equipped with balloons, inadvertently taking a young stowaway.&nbsp;</p>
DTSTART;TZID=America/New_York:20250628T140000
DTEND;TZID=America/New_York:20250628T160000
SUMMARY:June Movie/ UP
URL;VALUE=URI:/june-movie-2
END:VEVENT
END:VCALENDAR