BEGIN:VCALENDAR
VERSION:2.0
PRODID:-//hacksw/handcal//NONSGML v1.0//EN
CALSCALE:GREGORIAN
BEGIN:VTIMEZONE
TZID:America/New_York
BEGIN:DAYLIGHT
TZOFFSETFROM:-0600
TZNAME:MDT
TZOFFSETTO:-0600
END:DAYLIGHT
END:VTIMEZONE
DTSTAMP:20260423T105311Z
UID:69ea3257d7ccb
BEGIN:VEVENT
LOCATION:Margate City Public Library,  8100 Atlantic Ave, Margate, NJ US 08402
DESCRIPTION:<p>&nbsp;</p>
DTSTART;TZID=America/New_York:20260418T140000
DTEND;TZID=America/New_York:20260418T155300
SUMMARY:April Movies-Remember Me
URL;VALUE=URI:/april-movies-remember-me-2
END:VEVENT
END:VCALENDAR