BEGIN:VCALENDAR
VERSION:2.0
PRODID:-//hacksw/handcal//NONSGML v1.0//EN
CALSCALE:GREGORIAN
BEGIN:VTIMEZONE
TZID:America/New_York
BEGIN:DAYLIGHT
TZOFFSETFROM:-0600
TZNAME:MDT
TZOFFSETTO:-0600
END:DAYLIGHT
END:VTIMEZONE
DTSTAMP:20260423T105717Z
UID:69ea334d543db
BEGIN:VEVENT
LOCATION:Margate City Public Library,  8100 Atlantic Ave, Margate, NJ US 08402
DESCRIPTION:<p>&nbsp;</p>
DTSTART;TZID=America/New_York:20260413T170000
DTEND;TZID=America/New_York:20260413T192500
SUMMARY:April Movies-Merrily We Roll Along
URL;VALUE=URI:/april-movies-merrily-we-roll-along-2
END:VEVENT
END:VCALENDAR