BEGIN:VCALENDAR
VERSION:2.0
PRODID:-//hacksw/handcal//NONSGML v1.0//EN
CALSCALE:GREGORIAN
BEGIN:VTIMEZONE
TZID:America/New_York
BEGIN:DAYLIGHT
TZOFFSETFROM:-0600
TZNAME:MDT
TZOFFSETTO:-0600
END:DAYLIGHT
END:VTIMEZONE
DTSTAMP:20260423T121711Z
UID:69ea460741d07
BEGIN:VEVENT
LOCATION:Margate City Public Library,  8100 Atlantic Ave, Margate, NJ US 08402
DESCRIPTION:<p>&nbsp;</p>
DTSTART;TZID=America/New_York:20260504T170000
DTEND;TZID=America/New_York:20260504T193000
SUMMARY:April Movies- Shakespeare in Love
URL;VALUE=URI:/april-movies-shakespeare-love-2
END:VEVENT
END:VCALENDAR