BEGIN:VCALENDAR
VERSION:2.0
PRODID:-//hacksw/handcal//NONSGML v1.0//EN
CALSCALE:GREGORIAN
BEGIN:VTIMEZONE
TZID:America/New_York
BEGIN:DAYLIGHT
TZOFFSETFROM:-0600
TZNAME:MDT
TZOFFSETTO:-0600
END:DAYLIGHT
END:VTIMEZONE
DTSTAMP:20260423T104603Z
UID:69ea30abdd8af
BEGIN:VEVENT
LOCATION:Margate City Public Library,  8100 Atlantic Ave, Margate, NJ US 08402
DESCRIPTION:<p>&nbsp;</p>
DTSTART;TZID=America/New_York:20260416T140000
DTEND;TZID=America/New_York:20260416T160100
SUMMARY:April Movies-Some Like It Hot
URL;VALUE=URI:/april-movies-some-it-hot-2
END:VEVENT
END:VCALENDAR